BEGIN:VCALENDAR
VERSION:2.0
PRODID:-//ChamberMaster//Event Calendar 2.0//EN
METHOD:PUBLISH
X-PUBLISHED-TTL:P3D
REFRESH-INTERVAL:P3D
CALSCALE:GREGORIAN
BEGIN:VEVENT
DTSTART;VALUE=DATE:20240717
DTEND;VALUE=DATE:20240921
TRANSP:TRANSPARENT
X-MICROSOFT-CDO-ALLDAYEVENT:TRUE
SUMMARY:Membership Forum Annual Pass 2024-2025
DESCRIPTION:An Annual Pass covers ALL Membership Forums from September 2024-June 2025!\n***Registration Deadline is Friday\, Sept. 20th at 1pm***\n  $220 Each\n\n\n\nWith an Annual Pass\, there's no need to bring out the credit card or deal with AP to register for each forum- simply choose "Annual Pass Holder" at checkout\, give us a call at 541-926-1517\, or email Jadyn at jbaskin@albanychamber.com to let us know you plan to attend.\n\n\n\nCan't make it to a forum? The Annual Pass is transferrable to coworkers! Just let us know who will be signing up in your place.\n\n\n\nPlease Note: In order to provide accurate catering numbers\, Annual Pass Holders will still need to register for each forum they want to attend.\n\n\n\nAnnual Passes are not available for purchase after September 20th\, 2024\n\n\n2024-2025 Forum Season Dates\n\nWednesdays\, 11:30am-1pm\, Linn County Expo Center\n\nSeptember 25th\, October 30th\, November 20th\, January 29th\,  February 26th\,  March 19th\, April 23rd\, May 28th\, and June 18th\n\n\n\nGold\, Platinum and Diamond Tier Members:\n\n\n	Gold and Platinum tier members each automatically receive one free annual pass.\n	Diamond tier members receive 2 free annual passes.\n	These membership tiers also each receive 4 free individual forum tickets they may use at any time throughout the year.\n\n  Read more about our Membership Benefits Here
X-ALT-DESC;FMTTYPE=text/html:<span style="font-size:24px\;"><span style="color:#0000FF\;"><strong>An Annual Pass covers ALL Membership Forums from September 2024-June 2025!</strong></span></span>\n<div style="text-align: center\;"><span style="color:#FF0000\;"><span style="font-size:20px\;"><strong>***Registration Deadline is Friday\, Sept. 20th at 1pm***</strong></span></span></div>\n<em><span style="font-size:20px\;">&#8203\;&nbsp\;<strong>$220 Each</strong></span></em><br />\n<br />\n<span style="color:#000000\;"><strong style="font-size: 16px\;">With an Annual Pass</strong></span><span style="font-size:16px\;"><span style="color:#000000\;">\, there&#39\;s no need to bring out the credit card or deal with AP to register for each forum- simply choose <em>&quot\;Annual Pass Holder&quot\;</em> at checkout\, give us a call at 541-926-1517\, or email Jadyn at&nbsp\;<a href="mailto:jbaskin@albanychamber.com">jbaskin@albanychamber.com</a>&nbsp\;to let us know you plan to attend.<br />\n<br />\n<span class="WdYUQQ text-decoration-none text-strikethrough-none" style="font-weight: 700\;">Can&#39\;t make it to a forum? </span><span class="WdYUQQ text-decoration-none text-strikethrough-none">The Annual Pass is transferrable to coworkers! Just let us know who will be signing up in your place.</span><br />\n<br />\n<em>Please Note:&nbsp\;</em><em>In order to provide accurate catering numbers\,&nbsp\;Annual Pass Holders will still need to register for each forum they want to attend.</em></span></span><br />\n<br />\n<strong><span style="color:#B22222\;"><span style="font-size:18px\;">Annual Passes are not available for purchase after September 20th\, 2024</span></span></strong>\n\n<div>\n<p><span style="font-size:14px\;"><u><strong>2024-2025&nbsp\;Forum Season Dates</strong></u><br />\n<em>Wednesdays\, 11:30am-1pm\, Linn County Expo Center</em><br />\nSeptember 25th\, October 30th\, November 20th\,&nbsp\;January 29th\,&nbsp\; February 26th\,&nbsp\; March 19th\, April 23rd\, May 28th\, and June 18th</span></p>\n</div>\n\n<hr />\n<p --font-size:="" --line-height:="" class="_04xlpA direction-ltr align-start para-style-body" line-height:="" style="color: rgb(255\, 255\, 255)\; font-family: " yafdjjtk5uu=""><span style="font-size:18px\;"><span style="color:#006400\;"><u><strong><span style="font-family:arial\;"><span class="WdYUQQ text-decoration-none text-strikethrough-none" style="font-weight: 700\;">Gold\, Platinum and Diamond Tier Members:</span></span></strong></u></span></span></p>\n\n<ul>\n	<li><span style="font-size:16px\;"><span style="font-family:arial\;"><span style="color:#000000\;"><span class="WdYUQQ text-decoration-none text-strikethrough-none">Gold and Platinum tier members each automatically receive </span><span class="WdYUQQ text-decoration-none text-strikethrough-none" style="font-weight: 700\;">one free annual pass</span><span class="WdYUQQ text-decoration-none text-strikethrough-none">.</span></span></span></span></li>\n	<li><span style="font-size:16px\;"><span style="font-family:arial\;"><span style="color:#000000\;"><span class="WdYUQQ text-decoration-none text-strikethrough-none">Diamond tier members receive<strong> 2 free annual passes</strong>.</span></span></span></span></li>\n	<li><span style="font-size:16px\;"><span style="font-family:arial\;"><span style="color:#000000\;"><span class="WdYUQQ text-decoration-none text-strikethrough-none"><span style="font-size:16px\;"><span style="font-family:arial\;"><span style="color:#000000\;"><span class="WdYUQQ text-decoration-none text-strikethrough-none">These membership tiers also each receive </span><span class="WdYUQQ text-decoration-none text-strikethrough-none" style="font-weight: 700\;">4 free individual forum tickets</span><span class="WdYUQQ text-decoration-none text-strikethrough-none"> they may use at any time throughout the year.</span></span></span></span></span></span></span></span></li>\n</ul>\n&#8203\;<span style="font-size:16px\;"><span style="font-family:arial\;"><span style="color:#000000\;"><span class="WdYUQQ text-decoration-none text-strikethrough-none"><span style="font-size:16px\;"><span style="font-family:arial\;"><span style="color:#000000\;"><span class="WdYUQQ text-decoration-none text-strikethrough-none"> <span style="font-size:16px\;">Read more about our <a href="https://www.albanychamber.com/member-benefits/">Membership Benefits Here</a></span></span></span></span></span></span></span></span></span>
LOCATION:
UID:e.2569.4469
SEQUENCE:3
DTSTAMP:20260423T043121Z
URL:https://business.albanychamber.com/events/details/membership-forum-annual-pass-2024-2025-4469
END:VEVENT

END:VCALENDAR
