BEGIN:VCALENDAR
VERSION:2.0
PRODID:-//ChamberMaster//Event Calendar 2.0//EN
METHOD:PUBLISH
X-PUBLISHED-TTL:P3D
REFRESH-INTERVAL:P3D
CALSCALE:GREGORIAN
BEGIN:VEVENT
DTSTART:20250423T183000Z
DTEND:20250423T200000Z
X-MICROSOFT-CDO-ALLDAYEVENT:FALSE
SUMMARY:Membership Forum - April 2025
DESCRIPTION:Join us for the April Membership Forum Luncheon!\nWednesday\, April 23rd\, 2025\n\n11:30am-1pm\n\nLinn County Expo Center\n\nSponsored By\n\nSingerLewak\n\n \n\n\n\nGuest Speaker\n\nEric Henny\, Vice President\, Head of West Coast Ag. Tiverton Advisors\n\n\n\n\n\nDonate a Door Prize for the Forum! (Members only)\n\nMust be worth $25 or more\, can be anything you want (gift baskets\, merch/swag\, wine\, gift certificates\, etc.)\n\nJust add under "Additional Items" at checkout. Someone from the Chamber will reach out to you about details. One door prize donation per member per forum. \n \n\n\nAbout Eric:\n\n\n\nEric was born and raised in the Willamette Valley to a multigenerational farm family that produced cannery crops\, strawberries\, livestock\, and an azalea nursery. After graduating from Oregon State University Eric worked for the Farm Credit System for fifteen years supporting Oregon farm families and their capital needs.  For the past four years Eric has worked for an Ag Investment Firm continuing his career through the firm's lending and investing activities. Today Eric helps lead a group with investments in Tree Fruit\, Hops\, Grapes\, Dairy and nearly two dozen key ag commodities in Washington\, Oregon\, California\, Georgia\, North Carolina and more.\n\n\n\nEric and his wife Trisha run a small consulting business in the community helping guide clients that need help with financial preparation\, accounting\, and working with their lenders. With the help of their three children\, they have operated a direct-to-consumer meat and egg business out of their farm helping feed the communities of Salem and Albany while teaching their kids about hard work and customer services.
X-ALT-DESC;FMTTYPE=text/html:<span style="color:#008000\;"><span style="font-size:36px\;"><span style="font-family:arial\;">Join us for the<strong>&nbsp\;April Membership Forum Luncheon!</strong></span></span></span>\n<div style="text-align: center\;"><span style="color:#000000\;"><span style="font-family:arial\;"><span style="font-size:28px\;"><strong>Wednesday\, April 23rd\, 2025</strong><br />\n11:30am-1pm<br />\nLinn County Expo Center<br />\n<u>Sponsored By</u><br />\n<strong><em>SingerLewak</em></strong></span></span></span><br />\n&nbsp\;</div>\n\n<div>\n<hr /></div>\n<span style="color:#0000FF\;"><span style="font-family:arial\;"><span style="font-size:26px\;"><u><strong>Guest Speaker</strong></u></span></span></span><br />\n<span style="font-size:22px\;"><span style="color: rgb(34\, 34\, 34)\; font-family: Arial\, Helvetica\, sans-serif\;">Eric Henny\,&nbsp\;<em>Vice President\, Head of West Coast Ag. Tiverton Advisors</em></span></span><br />\n<br />\n<br />\n<span style="font-size:22px\;"><span style="font-size:20px\;"><strong><span style="color:#FF0000\;"><u>Donate a Door Prize for the Forum! <em>(Members only)</em></u></span></strong></span></span>\n\n<div style="margin-left: 40px\;"><span style="font-size:22px\;"><span style="font-size:18px\;"><span style="font-size:16px\;">Must be worth $25 or more\, can be anything you want (gift baskets\, merch/swag\, wine\, gift certificates\, etc.)<br />\nJust add under &quot\;Additional Items&quot\; at checkout. Someone from the Chamber will reach out to you about details. One door prize donation per member per forum.&nbsp\;</span></span></span></div>\n&nbsp\;\n\n<hr />\n<p style="box-sizing: border-box\; -webkit-tap-highlight-color: rgba(0\, 0\, 0\, 0)\; margin: 0.5em 0px 1em\; padding: 0px\; color: rgb(100\, 117\, 133)\; font-family: hind\, helvetica\, arial\, sans-serif\; font-size: 20px\;">About Eric:<br />\n<br />\nEric was born and raised in the Willamette Valley to a multigenerational farm family that produced cannery crops\, strawberries\, livestock\, and an azalea nursery. After graduating from Oregon State University Eric worked for the Farm Credit System for fifteen years supporting Oregon farm families and their capital needs.&nbsp\; For the past four years Eric has worked for an Ag Investment Firm continuing his career through the firm&#39\;s lending and investing activities. Today Eric helps lead a group with investments in Tree Fruit\, Hops\, Grapes\, Dairy and nearly two dozen key ag commodities in Washington\, Oregon\, California\, Georgia\, North Carolina and more.<br />\n<br />\nEric and his wife Trisha run a small consulting business in the community helping guide clients that need help with financial preparation\, accounting\, and working with their lenders. With the help of their three children\, they have operated a direct-to-consumer meat and egg business out of their farm helping feed the communities of Salem and Albany while teaching their kids about hard work and customer services.&nbsp\;</p>\n
LOCATION:Linn County Expo Center
UID:e.2569.4584
SEQUENCE:3
DTSTAMP:20260419T140002Z
URL:https://business.albanychamber.com/events/details/membership-forum-april-2025-4584
END:VEVENT

END:VCALENDAR
