BEGIN:VCALENDAR
VERSION:2.0
PRODID:-//ChamberMaster//Event Calendar 2.0//EN
METHOD:PUBLISH
X-PUBLISHED-TTL:P3D
REFRESH-INTERVAL:P3D
CALSCALE:GREGORIAN
BEGIN:VEVENT
DTSTART:20260401T230000Z
DTEND:20260402T010000Z
X-MICROSOFT-CDO-ALLDAYEVENT:FALSE
SUMMARY:Mid-Willamette Valley Chamber Mixer - 4/1/26
DESCRIPTION:MID-WILLAMETTE VALLEY CHAMBER MIXER\n\nAPRIL 1\, 2026\, 4:00 6:00 PM\n\n\n\nPRESENTED BY SMI REAL ESTATE AND PROPERTY MANAGEMENT\n\n\n\nJoin us for the Mid-Willamette Valley Chamber Mixer\, hosted by the Mid-Willamette Family YMCA. This early evening networking event brings together businesses invited from chambers across the valley for connection\, conversation\, and fun. Enjoy interactive games\, lighthearted icebreakers\, food\, and wine while expanding your network in a relaxed\, welcoming setting.\n\n\n\nThis year's mixer features enhanced activities designed to spark conversation and strengthen connections. Reconnect with familiar faces\, meet new contacts from across the region\, and see how collaboration between local businesses helps build a stronger\, more vibrant community.\n\n\n\nDon't miss this fun and engaging evening of networking and community space is limited\, so register today to secure your spot.\n\n\n\nDate: Wednesday\, April 1\, 2026\n\nTime: 4:00 - 6:00 PM\n\nLocation: Mid-Willamette Family YMCA\n\n3201 Pacific Blvd. SW\, Albany\, OR 97321
X-ALT-DESC;FMTTYPE=text/html:MID-WILLAMETTE VALLEY CHAMBER MIXER<br />\nAPRIL 1\, 2026\, 4:00&ndash\;6:00 PM<br />\n<br />\nPRESENTED BY SMI REAL ESTATE AND PROPERTY MANAGEMENT<br />\n<br />\nJoin us for the Mid-Willamette Valley Chamber Mixer\, hosted by the Mid-Willamette Family YMCA. This early evening networking event brings together businesses invited from chambers across the valley for connection\, conversation\, and fun. Enjoy interactive games\, lighthearted icebreakers\, food\, and wine while expanding your network in a relaxed\, welcoming setting.<br />\n<br />\nThis year&rsquo\;s mixer features enhanced activities designed to spark conversation and strengthen connections. Reconnect with familiar faces\, meet new contacts from across the region\, and see how collaboration between local businesses helps build a stronger\, more vibrant community.<br />\n<br />\nDon&rsquo\;t miss this fun and engaging evening of networking and community&mdash\;space is limited\, so <u><a href="https://forms.monday.com/forms/c4b93d01db6795c89d2ed8af6aecb042?r=use1">register today to secure your spot.</a></u><br />\n<br />\nDate: Wednesday\, April 1\, 2026<br />\nTime: 4:00 - 6:00 PM<br />\nLocation: Mid-Willamette Family YMCA<br />\n3201 Pacific Blvd. SW\, Albany\, OR 97321
LOCATION:Mid-Willamette Family YMCA 3201 Pacific Blvd. SW\, Albany\, OR 97321
UID:e.2569.6294
SEQUENCE:3
DTSTAMP:20260425T202641Z
URL:https://business.albanychamber.com/events/details/mid-willamette-valley-chamber-mixer-4-1-26-6294
END:VEVENT

END:VCALENDAR
