BEGIN:VCALENDAR
VERSION:2.0
PRODID:-//ChamberMaster//Event Calendar 2.0//EN
METHOD:PUBLISH
X-PUBLISHED-TTL:P3D
REFRESH-INTERVAL:P3D
CALSCALE:GREGORIAN
BEGIN:VEVENT
DTSTART;VALUE=DATE:20250703
DTEND;VALUE=DATE:20250704
TRANSP:TRANSPARENT
X-MICROSOFT-CDO-ALLDAYEVENT:TRUE
SUMMARY:No Greeters - No Greeters 7/3/25
DESCRIPTION:Happy 4th of July Weekend!!\n\nNo Greeters!
X-ALT-DESC;FMTTYPE=text/html:<span style="font-size:48px\;"><span style="font-family:arial\;"><strong><span style="color:#FF0000\;">Happy </span><span style="color:#0000FF\;">4th</span><span style="color:#FF0000\;"> of</span> <span style="color:#0000FF\;">July </span><span style="color:#FF0000\;">Weekend</span><span style="color:#0000FF\;">!!</span><br />\nNo Greeters!</strong></span></span>
LOCATION:
UID:e.2569.5525
SEQUENCE:3
DTSTAMP:20260419T171329Z
URL:https://business.albanychamber.com/events/details/no-greeters-no-greeters-7-3-25-5525
END:VEVENT

END:VCALENDAR
