BEGIN:VCALENDAR
VERSION:2.0
PRODID:-//ChamberMaster//Event Calendar 2.0//EN
METHOD:PUBLISH
X-PUBLISHED-TTL:P3D
REFRESH-INTERVAL:P3D
CALSCALE:GREGORIAN
BEGIN:VEVENT
DTSTART:20210926T000000Z
DTEND:20210926T030000Z
X-MICROSOFT-CDO-ALLDAYEVENT:FALSE
SUMMARY:One Year in Business Celebration
DESCRIPTION:Come and celebrate our one year anniversary with door prizes\, food\, and more. Celebrate our achievement of success. RSVP by: Monday\, 9-20-21
X-ALT-DESC;FMTTYPE=text/html:Come and celebrate our one year anniversary with door prizes\, food\, and more. Celebrate our achievement of success. RSVP by: Monday\, 9-20-21
LOCATION:Weekend Coffee Roasters 1137 11th Ave. South West Albany\, OR\, 97321
UID:e.2569.3696
SEQUENCE:3
DTSTAMP:20260422T123701Z
URL:https://business.albanychamber.com/events/details/one-year-in-business-celebration-3696
END:VEVENT

END:VCALENDAR
