BEGIN:VCALENDAR
VERSION:2.0
PRODID:-//ChamberMaster//Event Calendar 2.0//EN
METHOD:PUBLISH
X-PUBLISHED-TTL:P3D
REFRESH-INTERVAL:P3D
CALSCALE:GREGORIAN
BEGIN:VEVENT
DTSTART:20250802T000000Z
DTEND:20250802T020000Z
X-MICROSOFT-CDO-ALLDAYEVENT:FALSE
SUMMARY:Oregon's Trail of Tears Exhibit Opening
DESCRIPTION:Join us at the Albany Regional Museum for a free opening reception Friday\, August 1st from 5-7pm for Nolan Streitberger's latest exhibition\, "Oregon's Trail of Tears"\, featuring haunting landscape photography exploring the 1856 route forcefully marched by hundreds of indigenous men\, women\, and children from Southern Oregon to a Reservation in the Mid-Willamette Valley 263 miles away. A special lecture by Nolan will begin at 5:30pm. The exhibit will be on view through January 31\, 2026. Visit ARM's website at armuseum.com or call 541-967-7122 to learn more.
X-ALT-DESC;FMTTYPE=text/html:Join us at the Albany Regional Museum for a free opening reception Friday\, August 1st from 5-7pm for Nolan Streitberger&rsquo\;s latest exhibition\, &ldquo\;Oregon&rsquo\;s Trail of Tears&rdquo\;\, featuring haunting landscape photography exploring the 1856 route forcefully marched by hundreds of indigenous men\, women\, and children from Southern Oregon to a Reservation in the Mid-Willamette Valley 263 miles away. A special lecture by Nolan will begin at 5:30pm. The exhibit will be on view through January 31\, 2026. Visit ARM&rsquo\;s website at armuseum.com or call 541-967-7122 to learn more.
LOCATION:Albany Regional Museum 136 Lyon St. SW\, Albany\, OR 97321
UID:e.2569.5526
SEQUENCE:3
DTSTAMP:20260419T170634Z
URL:https://business.albanychamber.com/events/details/oregon-s-trail-of-tears-exhibit-opening-5526
END:VEVENT

END:VCALENDAR
