BEGIN:VCALENDAR
VERSION:2.0
PRODID:-//ChamberMaster//Event Calendar 2.0//EN
METHOD:PUBLISH
X-PUBLISHED-TTL:P3D
REFRESH-INTERVAL:P3D
CALSCALE:GREGORIAN
BEGIN:VEVENT
DTSTART:20200224T000000Z
DTEND:20200224T040000Z
X-MICROSOFT-CDO-ALLDAYEVENT:FALSE
SUMMARY:Panera benefit for the Center Against Rape and Domestic Violence (CARDV)
DESCRIPTION:Present the Panera/CARDV flyer 20% of sales will be donated back to CARDV. Flyer can be shown on mobile device or as a printed flyer. Click here for the flyer: https://tinyurl.com/tfw6erj
X-ALT-DESC;FMTTYPE=text/html:Present the Panera/CARDV flyer 20% of sales will be donated back to CARDV. Flyer can be shown on mobile device or as a printed flyer. Click here for the flyer: https://tinyurl.com/tfw6erj
LOCATION:320 Airport Rd SE Albany\, OR 97322
UID:e.2569.3345
SEQUENCE:3
DTSTAMP:20260423T025631Z
URL:https://business.albanychamber.com/events/details/panera-benefit-for-the-center-against-rape-and-domestic-violence-cardv-3345
END:VEVENT

END:VCALENDAR
