BEGIN:VCALENDAR
VERSION:2.0
PRODID:-//ChamberMaster//Event Calendar 2.0//EN
METHOD:PUBLISH
X-PUBLISHED-TTL:P3D
REFRESH-INTERVAL:P3D
CALSCALE:GREGORIAN
BEGIN:VEVENT
DTSTART:20250428T003000Z
DTEND:20250428T030000Z
X-MICROSOFT-CDO-ALLDAYEVENT:FALSE
SUMMARY:Pig out for Parton!
DESCRIPTION:Join us for an evening of delicious dining and inspiring conversation on the importance of Dolly Parton's Imagination Library! This special evening features a delicious pork-inspired menu created by local chef Matt Bennett. All proceeds will benefit Dolly Parton's Imagination Library\, which provides free books to children across our community\, ages birth to five!
X-ALT-DESC;FMTTYPE=text/html:Join us for an evening of delicious dining and inspiring conversation on the importance of Dolly Parton&#39\;s Imagination Library! This special evening features a delicious pork-inspired menu created by local chef Matt Bennett. All proceeds will benefit Dolly Parton&#39\;s Imagination Library\, which provides free books to children across our community\, ages birth to five!
LOCATION:Sybaris Bistro: 442 1st Ave SW\, Albany\, OR 97321
UID:e.2569.4607
SEQUENCE:3
DTSTAMP:20260419T125940Z
URL:https://business.albanychamber.com/events/details/pig-out-for-parton-4607
END:VEVENT

END:VCALENDAR
