BEGIN:VCALENDAR
VERSION:2.0
PRODID:-//ChamberMaster//Event Calendar 2.0//EN
METHOD:PUBLISH
X-PUBLISHED-TTL:P3D
REFRESH-INTERVAL:P3D
CALSCALE:GREGORIAN
BEGIN:VEVENT
DTSTART:20251121T200000Z
DTEND:20251121T210000Z
X-MICROSOFT-CDO-ALLDAYEVENT:FALSE
SUMMARY:Presentation: Practical Ways to Manage Dementia Behaviors
DESCRIPTION:Join Dr. Helen Kao for a presentation on Practical Ways to Manage Dementia "Behaviors"\n\n\n	Learn practical steps for 'diagnosing' dementia behaviors\n	Explore non-pharmacologic options for managing behavior symptoms\n	Try a wide assortment of real tools and devices to help with dementia care\n\n\nThis event is open to the public and offered free of charge. Registration is not required. Dr. Helen Kao is Medical Director of Clinical Innovations at Lumina Hospice and Palliative Care in Corvallis\, OR\, and Professor of Medicine with the University of California San Francisco. She is board certified in internal medicine\, geriatrics\, and hospice & palliative medicine. Helen's clinical work has focused on the care of frail\, homebound\, and vulnerable adults for over 15 years. She has particular interests in dementia\, home-based care\, and palliative care.\n\n"How Stress Effects Dementia" presentation is offered two times\, on Thursday November 20 at 5:30pm and on November 21 at noon at the Corvallis Public Library conference room.\n\nView Fall 2025 Dementia Series flyer: Dementia Lecture Series Fall 2025\n\n \n\nRespite care services at the Grace Center are offered during the lectures. The fee is $20 for the Thursday evening session\, while the Friday noon lectures are FREE. Please register for respite care a week ahead of time. To schedule\, call the Grace Center at 541-754-8417 or email Office@gracecenter-corvallis.org
X-ALT-DESC;FMTTYPE=text/html:<p><strong>Join Dr. Helen Kao for a presentation on Practical Ways to Manage Dementia &ldquo\;Behaviors&rdquo\;</strong></p>\n\n<ul>\n	<li>Learn practical steps for &lsquo\;diagnosing&rsquo\; dementia behaviors</li>\n	<li>Explore non-pharmacologic options for managing behavior symptoms</li>\n	<li>Try a wide assortment of real tools and devices to help with dementia care</li>\n</ul>\n\n<p>This event is open to the public and offered free of charge. Registration is not required. Dr. Helen Kao is Medical Director of Clinical Innovations at Lumina Hospice and Palliative Care in Corvallis\, OR\, and Professor of Medicine with the University of California San Francisco. She is board certified in internal medicine\, geriatrics\, and hospice &amp\; palliative medicine. Helen&rsquo\;s clinical work has focused on the care of frail\, homebound\, and vulnerable adults for over 15 years. She has particular interests in dementia\, home-based care\, and palliative care.</p>\n\n<h6>&ldquo\;How Stress Effects Dementia&rdquo\; presentation is offered two times\, on Thursday November 20 at 5:30pm and on November 21 at noon at the Corvallis Public Library conference room.</h6>\n\n<div><span style="font-size:16px">View Fall 2025 Dementia Series flyer:&nbsp\;</span><a href="https://www.luminahospice.org/wp-content/uploads/2025/08/Current-Dementia-Lecture-Series-Fall-2025.pdf" style="--tw-border-spacing-x: 0\; --tw-border-spacing-y: 0\; --tw-translate-x: 0\; --tw-translate-y: 0\; --tw-rotate: 0\; --tw-skew-x: 0\; --tw-skew-y: 0\; --tw-scale-x: 1\; --tw-scale-y: 1\; --tw-pan-x: \; --tw-pan-y: \; --tw-pinch-zoom: \; --tw-scroll-snap-strictness: proximity\; --tw-gradient-from-position: \; --tw-gradient-via-position: \; --tw-gradient-to-position: \; --tw-ordinal: \; --tw-slashed-zero: \; --tw-numeric-figure: \; --tw-numeric-spacing: \; --tw-numeric-fraction: \; --tw-ring-inset: \; --tw-ring-offset-width: 0px\; --tw-ring-offset-color: #fff\; --tw-ring-color: rgb(59 130 246 / 0.5)\; --tw-ring-offset-shadow: 0 0 #0000\; --tw-ring-shadow: 0 0 #0000\; --tw-shadow: 0 0 #0000\; --tw-shadow-colored: 0 0 #0000\; --tw-blur: \; --tw-brightness: \; --tw-contrast: \; --tw-grayscale: \; --tw-hue-rotate: \; --tw-invert: \; --tw-saturate: \; --tw-sepia: \; --tw-drop-shadow: \; --tw-backdrop-blur: \; --tw-backdrop-brightness: \; --tw-backdrop-contrast: \; --tw-backdrop-grayscale: \; --tw-backdrop-hue-rotate: \; --tw-backdrop-invert: \; --tw-backdrop-opacity: \; --tw-backdrop-saturate: \; --tw-backdrop-sepia: \; box-sizing: inherit\; text-decoration-line: none\; color: rgb(20\, 24\, 39)\; transition: 0.2s\; border-bottom: 0.666667px solid rgb(51\, 74\, 255)\; font-size: 16px\;">Dementia Lecture Series Fall 2025</a></div>\n\n<div>&nbsp\;</div>\n\n<div>Respite care services at the Grace Center are offered during the lectures. The fee is $20 for the Thursday evening session\, while the Friday noon lectures are FREE. Please register for respite care a week ahead of time. To schedule\, call the Grace Center at 541-754-8417 or email Office@gracecenter-corvallis.org</div>\n
LOCATION:Corvallis Public Library\, conference room
UID:e.2569.6104
SEQUENCE:3
DTSTAMP:20260419T214726Z
URL:https://business.albanychamber.com/events/details/presentation-practical-ways-to-manage-dementia-behaviors-11-21-2025-6104
END:VEVENT

END:VCALENDAR
