BEGIN:VCALENDAR
VERSION:2.0
PRODID:-//ChamberMaster//Event Calendar 2.0//EN
METHOD:PUBLISH
X-PUBLISHED-TTL:P3D
REFRESH-INTERVAL:P3D
CALSCALE:GREGORIAN
BEGIN:VEVENT
DTSTART:20260522T160000Z
DTEND:20260522T203000Z
X-MICROSOFT-CDO-ALLDAYEVENT:FALSE
SUMMARY:SERVPRO Team McGinnis Continuing Education - Scratch & Sniff: Odors\, Mitigation\, and Airflow 5/22/2026
DESCRIPTION:SERVPRO Team McGinnis Continuing Education - Scratch & Sniff: Odors\, Mitigation\, and Airflow 5/22/2026\n\n \n\n05/22/2026\n\n \n\nScratch & Sniff: Odors\, Mitigation\, and Airflow\n\nFREE Continuing Education Class\n\n4 Credits\n\n \n\n9:00am - 1:30pm \n\nSERVPRO of Salem West\n\n859 7th St\, Salem\, Oregon 97304\n\n \n\nFree\, coffee and light refreshments and lunch are provided.
X-ALT-DESC;FMTTYPE=text/html:<p><a href="https://salemchamber.chambermaster.com/mic/events/edit/7782?memId=5479&amp\;repId=40240">SERVPRO Team McGinnis Continuing Education - </a>Scratch &amp\; Sniff: Odors\, Mitigation\, and Airflow 5/22/2026</p>\n\n<p>&nbsp\;</p>\n\n<p>05/22/2026</p>\n\n<p>&nbsp\;</p>\n\n<p>Scratch &amp\; Sniff: Odors\, Mitigation\, and Airflow</p>\n\n<p>FREE Continuing Education Class</p>\n\n<p>4 Credits</p>\n\n<p>&nbsp\;</p>\n\n<p>9:00am - 1:30pm&nbsp\;</p>\n\n<p>SERVPRO of Salem West</p>\n\n<p>859 7th St\, Salem\, Oregon 97304</p>\n\n<p>&nbsp\;</p>\n\n<p>Free\, coffee and light refreshments and lunch are provided.</p>\n
LOCATION:SERVPRO of Salem West 859 7th St\, Salem\, Oregon 97304
UID:e.2569.6321
SEQUENCE:3
DTSTAMP:20260425T102159Z
URL:https://business.albanychamber.com/events/details/servpro-team-mcginnis-continuing-education-scratch-sniff-odors-mitigation-and-airflow-5-22-2026-6321
END:VEVENT

END:VCALENDAR
