BEGIN:VCALENDAR
VERSION:2.0
PRODID:-//ChamberMaster//Event Calendar 2.0//EN
METHOD:PUBLISH
X-PUBLISHED-TTL:P3D
REFRESH-INTERVAL:P3D
CALSCALE:GREGORIAN
BEGIN:VEVENT
DTSTART:20250307T220000Z
DTEND:20250307T233000Z
X-MICROSOFT-CDO-ALLDAYEVENT:FALSE
SUMMARY:Suicide Prevention Training for Adults
DESCRIPTION:Question. Persuade. Refer. are three steps anyone can learn to help prevent suicide. Make a positive difference in the life of someone you know. Who should attend: older adults\, friends and family members of older adults\, caregivers\, healthcare providers\, senior housing and assisted living staff. Registration is required. Call 541-704-4296 or email fitnessc@mennonitevillage.org.
X-ALT-DESC;FMTTYPE=text/html:Question. Persuade. Refer. are three steps anyone can learn to help prevent suicide. Make a positive difference in the life of someone you know. Who should attend: older adults\, friends and family members of older adults\, caregivers\, healthcare providers\, senior housing and assisted living staff. Registration is required. Call 541-704-4296 or email fitnessc@mennonitevillage.org.
LOCATION:2180 54th Ave SE Albany\, OR 97322
UID:e.2569.4569
SEQUENCE:3
DTSTAMP:20260419T124353Z
URL:https://business.albanychamber.com/events/details/suicide-prevention-training-for-adults-4569
END:VEVENT

END:VCALENDAR
