BEGIN:VCALENDAR
VERSION:2.0
PRODID:-//ChamberMaster//Event Calendar 2.0//EN
METHOD:PUBLISH
X-PUBLISHED-TTL:P3D
REFRESH-INTERVAL:P3D
CALSCALE:GREGORIAN
BEGIN:VEVENT
DTSTART:20200206T210000Z
DTEND:20200206T223000Z
X-MICROSOFT-CDO-ALLDAYEVENT:FALSE
SUMMARY:Technical Aspects of Photography
DESCRIPTION:This class will show you how to break down some technical aspect including image quality in relation to shutter speed\, aperture\, and sensor speed. There will be discussion on perspective shifts versus lens length and how it relates to focus and depth of field. This class is especially recommended for anyone who owns or want to own a camera with adjustable settings. Computer programs for editing your photos and some examples will be shared.
X-ALT-DESC;FMTTYPE=text/html:This class will show you how to break down some technical aspect including image quality in relation to shutter speed\, aperture\, and sensor speed. There will be discussion on perspective shifts versus lens length and how it relates to focus and depth of field. This class is especially recommended for anyone who owns or want to own a camera with adjustable settings. Computer programs for editing your photos and some examples will be shared.
LOCATION:Albany Senior Center 489 Water Avenue Albany\, OR 97321
UID:e.2569.3333
SEQUENCE:3
DTSTAMP:20260423T063001Z
URL:https://business.albanychamber.com/events/details/technical-aspects-of-photography-3333
END:VEVENT

END:VCALENDAR
