BEGIN:VCALENDAR
VERSION:2.0
PRODID:-//ChamberMaster//Event Calendar 2.0//EN
METHOD:PUBLISH
X-PUBLISHED-TTL:P3D
REFRESH-INTERVAL:P3D
CALSCALE:GREGORIAN
BEGIN:VEVENT
DTSTART:20251015T200000Z
DTEND:20251015T230000Z
X-MICROSOFT-CDO-ALLDAYEVENT:FALSE
SUMMARY:Ten Year Celebration with Bonaventure of Albany
DESCRIPTION:Join Bonaventure of Albany to celebrate our 10-year anniversary! Enjoy live entertainment and happy hour drinks and appetizers while touring our spacious and lively community and winning exciting door prizes* ! Come and be a part of the celebration!
X-ALT-DESC;FMTTYPE=text/html:Join Bonaventure of Albany to celebrate our 10-year anniversary! Enjoy live entertainment and happy hour drinks and appetizers while touring our spacious and lively community and winning exciting door prizes* ! Come and be a part of the celebration!
LOCATION:Bonaventure of Albany
UID:e.2569.6071
SEQUENCE:3
DTSTAMP:20260419T201004Z
URL:https://business.albanychamber.com/events/details/ten-year-celebration-with-bonaventure-of-albany-6071
END:VEVENT

END:VCALENDAR
