BEGIN:VCALENDAR
VERSION:2.0
PRODID:-//ChamberMaster//Event Calendar 2.0//EN
METHOD:PUBLISH
X-PUBLISHED-TTL:P3D
REFRESH-INTERVAL:P3D
CALSCALE:GREGORIAN
BEGIN:VEVENT
DTSTART:20260321T233000Z
DTEND:20260322T020000Z
X-MICROSOFT-CDO-ALLDAYEVENT:FALSE
SUMMARY:Traditions at the Table
DESCRIPTION:Some of the best moments in life happen around the table. You're invited to Traditions at the Table - a special fundraising dinner benefiting the Mennonite Village Foundation. Enjoy a delicious family-style meal\, live music\, and a Golden Ticket Raffle - all supporting the creation of a new Healing Garden for the residents who call Mennonite Village home. Tickets on sale now!
X-ALT-DESC;FMTTYPE=text/html:Some of the best moments in life happen around the table. You&#39\;re invited to Traditions at the Table - a special fundraising dinner benefiting the Mennonite Village Foundation. Enjoy a delicious family-style meal\, live music\, and a Golden Ticket Raffle - all supporting the creation of a new Healing Garden for the residents who call Mennonite Village home. Tickets on sale now!
LOCATION:The Officer's Club 6097 NE Ebony Lane\, Corvallis
UID:e.2569.6293
SEQUENCE:3
DTSTAMP:20260425T185847Z
URL:https://business.albanychamber.com/events/details/traditions-at-the-table-6293
END:VEVENT

END:VCALENDAR
