BEGIN:VCALENDAR
VERSION:2.0
PRODID:-//ChamberMaster//Event Calendar 2.0//EN
METHOD:PUBLISH
X-PUBLISHED-TTL:P3D
REFRESH-INTERVAL:P3D
CALSCALE:GREGORIAN
BEGIN:VEVENT
DTSTART:20250722T010000Z
DTEND:20250726T030000Z
X-MICROSOFT-CDO-ALLDAYEVENT:FALSE
SUMMARY:Vacation Bible School
DESCRIPTION:Eastside Christian Church will be having Vacation Bible School July 21st-25th from 6pm-8pm. Regisitration is available for preschool -5th grade. Discover the BIgness of God in the smallest of things.
X-ALT-DESC;FMTTYPE=text/html:Eastside Christian Church will be having Vacation Bible School July 21st-25th from 6pm-8pm. Regisitration is available for preschool -5th grade. Discover the BIgness of God in the smallest of things.
LOCATION:Eastside Christian Church 1910 Grand Prairie Rd. SE Albany\, OR 97322
UID:e.2569.4611
SEQUENCE:3
DTSTAMP:20260419T155710Z
URL:https://business.albanychamber.com/events/details/vacation-bible-school-07-21-2025-4611
END:VEVENT

END:VCALENDAR
