BEGIN:VCALENDAR
VERSION:2.0
PRODID:-//ChamberMaster//Event Calendar 2.0//EN
METHOD:PUBLISH
X-PUBLISHED-TTL:P3D
REFRESH-INTERVAL:P3D
CALSCALE:GREGORIAN
BEGIN:VEVENT
DTSTART:20241002T181500Z
DTEND:20241002T200000Z
X-MICROSOFT-CDO-ALLDAYEVENT:FALSE
SUMMARY:Women in Business October 2024
DESCRIPTION:Join us for our Women In Business Luncheon!\n\nThese quarterly luncheons are a fantastic opportunity to connect with other local business women\, enjoy a catered lunch while learning from our guest speaker. \nWednesday\, October 2nd\n\n11:15 AM - 1 PM\n\nProgram Starts at 11:50 AM\n\nComfort Suites\n\nSponsored by: NW Natural Gas\nTopic:\n\nSafety for Women in Business\n\nWith Guest Speaker\n\n Marcia Harden\, Chief of Police\n\nAbout the Marcia Harden\n\nI am currently the Chief of Police for the Albany Oregon Police Department. I've been there since January 2020. Before that\, I had 27 years with the Bellevue Police Department in Washington State.  Over my career\, I've served in several capacities like most law-enforcement officers. I am most proud of both my command leadership experience in drug enforcement\, DUI enforcement\, special operations\, SWAT\, Explosives unit\, and my union leadership experience.  I also on the Executive Board for the Oregon Association of Chief of Police.\n\n \n\nMy biggest passion is developing the leaders in any organization.  This passion has resulted in me instructing for several organizations\, colleges and also being a small business owner who helps develop the next leaders.  My company also conducts Workplace Culture Assessments.
X-ALT-DESC;FMTTYPE=text/html:<span style="font-size:28px\;"><span style="color:#800080\;"><strong>Join us for our Women In Business Luncheon!</strong></span></span><br />\n<span style="font-size:16px\;"><span style="color: rgb(204\, 51\, 102)\;"><span style="font-size:18px\;">These quarterly luncheons are a fantastic opportunity to connect with other local business women\, enjoy a catered lunch while learning from our guest speaker.&nbsp\;</span></span></span>\n<div style="text-align: center\;"><span style="font-size:28px\;"><span style="color: rgb(204\, 51\, 102)\;"><strong>Wednesday\, October 2nd<br />\n11:15 AM - 1 PM<br />\nProgram Starts at 11:50 AM<br />\nComfort Suites<br />\nSponsored by: NW Natural Gas</strong></span></span></div>\n<span style="font-size:24px\;"><span style="color:#800080\;"><em><strong>Topic:</strong></em></span><br />\n<span style="color:#008080\;"><span style="font-size:28px\;"><strong>Safety for Women in Business</strong></span></span></span><br />\n<span style="font-size:24px\;"><span style="color:#800080\;"><u><em><strong>With Guest Speaker</strong></em></u></span></span><br />\n<strong style="color: rgb(0\, 128\, 128)\; font-size: 28px\;">&nbsp\;Marcia Harden\, Chief of Police</strong><br />\n<span style="font-size:20px\;"><span style="color:#800080\;"><u><strong>About the Marcia Harden</strong></u></span></span><br />\n<span style="font-size:11pt\;">I am currently the Chief of Police for the Albany Oregon Police Department. I&rsquo\;ve been there since January 2020. Before that\, I had 27 years with the Bellevue Police Department in Washington State.&nbsp\; Over my career\, I&rsquo\;ve served in several capacities like most law-enforcement officers. I am most proud of both my command leadership experience in drug enforcement\, DUI enforcement\, special operations\, SWAT\, Explosives unit\, and my union leadership experience.&nbsp\; I also on the Executive Board for the Oregon Association of Chief of Police.</span><br />\n&nbsp\;<br />\n<span style="font-size:11pt\;">My biggest passion is developing the leaders in any organization.&nbsp\; This passion has resulted in me instructing for several organizations\, colleges and also being a small business owner who helps develop the next leaders.&nbsp\; My company also conducts Workplace Culture Assessments.&nbsp\;</span><br />\n&nbsp\;
LOCATION:Comfort Suites of Albany 100 Opal St. NE Albany 97322
UID:e.2569.4485
SEQUENCE:3
DTSTAMP:20260419T115113Z
URL:https://business.albanychamber.com/events/details/women-in-business-october-2024-4485
END:VEVENT

END:VCALENDAR
