BEGIN:VCALENDAR
VERSION:2.0
PRODID:-//ChamberMaster//Event Calendar 2.0//EN
METHOD:PUBLISH
X-PUBLISHED-TTL:P3D
REFRESH-INTERVAL:P3D
CALSCALE:GREGORIAN
BEGIN:VEVENT
DTSTART:20200219T203000Z
DTEND:20200219T213000Z
X-MICROSOFT-CDO-ALLDAYEVENT:FALSE
SUMMARY:Women's Health
DESCRIPTION:Ladies\, aging brings certain expectations such as increased wisdom\, senior discounts and changes in hair color. A less discussed but often just as common expectation especially among women includes less bladder control. Many people believe that this is just a natural function of aging\, but it doesn't have to be. What if you could get rid of or decrease the need for leakage protection? Or how about not needing to know where all the bathrooms are when you go into the community? Wouldn't it be nice to regain the control you had before? Believe it or not it is possible. Remember\, none of us were born continent. Come learn about how our system works and what you can do when yours does not work as well as it once did. I am a physical therapist with training in women's health and would love to share with you some information that I have seen help many patients over the years. Registration is appreciated.
X-ALT-DESC;FMTTYPE=text/html:Ladies\, aging brings certain expectations such as increased wisdom\, senior discounts and changes in hair color. A less discussed but often just as common expectation especially among women includes less bladder control. Many people believe that this is just a natural function of aging\, but it doesn&rsquo\;t have to be. What if you could get rid of or decrease the need for leakage protection? Or how about not needing to know where all the bathrooms are when you go into the community? Wouldn&rsquo\;t it be nice to regain the control you had before? Believe it or not it is possible. Remember\, none of us were born continent. Come learn about how our system works and what you can do when yours does not work as well as it once did. I am a physical therapist with training in women&rsquo\;s health and would love to share with you some information that I have seen help many patients over the years. Registration is appreciated.
LOCATION:Albany Senior Center 489 Water Avenue Albany\, OR 97321
UID:e.2569.3327
SEQUENCE:3
DTSTAMP:20260423T050750Z
URL:https://business.albanychamber.com/events/details/women-s-health-3327
END:VEVENT

END:VCALENDAR
